BEGIN:VCALENDAR
VERSION:2.0
PRODID:-//Körperleben - ECPv5.16.4//NONSGML v1.0//EN
CALSCALE:GREGORIAN
METHOD:PUBLISH
X-WR-CALNAME:Körperleben
X-ORIGINAL-URL:https://xn--krperleben-ecb.de
X-WR-CALDESC:Veranstaltungen für Körperleben
BEGIN:VTIMEZONE
TZID:Europe/Berlin
BEGIN:DAYLIGHT
TZOFFSETFROM:+0100
TZOFFSETTO:+0200
TZNAME:CEST
DTSTART:20200329T010000
END:DAYLIGHT
BEGIN:STANDARD
TZOFFSETFROM:+0200
TZOFFSETTO:+0100
TZNAME:CET
DTSTART:20201025T010000
END:STANDARD
END:VTIMEZONE
BEGIN:VEVENT
DTSTART;TZID=Europe/Berlin:20200314T173000
DTEND;TZID=Europe/Berlin:20200314T220000
DTSTAMP:20260421T215546
CREATED:20200221T113831Z
LAST-MODIFIED:20200313T232330Z
UID:371-1584207000-1584223200@xn--krperleben-ecb.de
SUMMARY:Abgesagt - Raufspiele Filderstadt
DESCRIPTION:bitte anmelden! \nEinlass ab 17:30 Uhr\, \nBeginn um 18 Uhr.
URL:https://xn--krperleben-ecb.de/?tribe_events=raufspiele-filderstadt-4
LOCATION:Stuttgart Filderstadt\, Gotthard-Müller-Str. 36/1\, Filderstadt\, 70794
END:VEVENT
END:VCALENDAR