BEGIN:VCALENDAR
VERSION:2.0
PRODID:-//Körperleben - ECPv5.16.4//NONSGML v1.0//EN
CALSCALE:GREGORIAN
METHOD:PUBLISH
X-WR-CALNAME:Körperleben
X-ORIGINAL-URL:https://xn--krperleben-ecb.de
X-WR-CALDESC:Veranstaltungen für Körperleben
BEGIN:VTIMEZONE
TZID:Europe/Berlin
BEGIN:DAYLIGHT
TZOFFSETFROM:+0100
TZOFFSETTO:+0200
TZNAME:CEST
DTSTART:20200329T010000
END:DAYLIGHT
BEGIN:STANDARD
TZOFFSETFROM:+0200
TZOFFSETTO:+0100
TZNAME:CET
DTSTART:20201025T010000
END:STANDARD
END:VTIMEZONE
BEGIN:VEVENT
DTSTART;TZID=Europe/Berlin:20200126T173000
DTEND;TZID=Europe/Berlin:20200126T220000
DTSTAMP:20260422T042823
CREATED:20191223T143741Z
LAST-MODIFIED:20200106T022834Z
UID:346-1580059800-1580076000@xn--krperleben-ecb.de
SUMMARY:Raufspiele für Frauen*\, Tübingen
DESCRIPTION:Ein Kreis aus Frauen*. Ein Raum mit Matten. Eine von uns geht in die Mitte und fordert eine weitere auf. Kontakt\, Kampf\, Spiel\, viele Gefühle und meist Fragen. Der geschützte Raum\, den wir hier kreieren\, bietet Möglichkeiten zum Ausprobieren und Hinterfragen. Geschlecht und Sexualität\, aber vor allem Solidarität und die Auswirkungen eines patriarchalen Welterlebens kommen auf\, zudem der Gedanke: Wer bist du\, wenn du nicht einer Rolle entsprechen musst? Wie bist du\, wenn es nur auf dich als Mensch ankommt? Und was ist\, wenn du genau dafür Annahme erfährst und in einem Kreis mit lauter anderen solcher Menschen sitzt?\nLet’s find out!\n******************************\nRaufspiele nur für Frauen*\nSonntag\, 26.01.\, Einlass ab 17:30 Uhr\, Beginn um 18 Uhr (Ende um 22 Uhr)\nKidojo\, Lorettoplatz 2\, Tübingen\nKosten: Nach Selbsteinschätzung.\nEs gibt eine Pause. Wenn du magst\, bring gern Kekse\, Obst oder eine herzhafte Knabberei mit. Tee stelle ich.\nWillkommen sind alle Menschen\, die sich ganz oder teilweise als Frau* verstehen/zugehörig fühlen und/oder eine Vulva als Körperteil besitzen. Wenn du dir unsicher bist\, sprich mich gern an!\nAnmeldung per Mail/Nachricht bis 19.01.. Findet statt ab 9 teilnehmenden Frauen*.\n******************************
URL:https://xn--krperleben-ecb.de/?tribe_events=raufspiele-fuer-frauen-und-fuer-menschen-mit-vulva-tuebingen
LOCATION:Kidojo\, Lorettoplatz 2\, Tübingen\, 72072\, Deutschland
END:VEVENT
END:VCALENDAR