BEGIN:VCALENDAR
VERSION:2.0
PRODID:-//Körperleben - ECPv5.16.4//NONSGML v1.0//EN
CALSCALE:GREGORIAN
METHOD:PUBLISH
X-WR-CALNAME:Körperleben
X-ORIGINAL-URL:https://xn--krperleben-ecb.de
X-WR-CALDESC:Veranstaltungen für Körperleben
BEGIN:VTIMEZONE
TZID:Europe/Berlin
BEGIN:DAYLIGHT
TZOFFSETFROM:+0100
TZOFFSETTO:+0200
TZNAME:CEST
DTSTART:20200329T010000
END:DAYLIGHT
BEGIN:STANDARD
TZOFFSETFROM:+0200
TZOFFSETTO:+0100
TZNAME:CET
DTSTART:20201025T010000
END:STANDARD
END:VTIMEZONE
BEGIN:VEVENT
DTSTART;TZID=Europe/Berlin:20200328T173000
DTEND;TZID=Europe/Berlin:20200328T220000
DTSTAMP:20260421T215836
CREATED:20200221T114254Z
LAST-MODIFIED:20200313T232234Z
UID:377-1585416600-1585432800@xn--krperleben-ecb.de
SUMMARY:Abgesagt - Raufspiele Nevinna
DESCRIPTION:Workshop-Event in Frankfurt a.M.\nInfos und Anmeldung: Nevinna.de
URL:https://xn--krperleben-ecb.de/?tribe_events=raufspiele-nevinna
END:VEVENT
END:VCALENDAR