BEGIN:VCALENDAR
VERSION:2.0
PRODID:-//Körperleben - ECPv5.16.4//NONSGML v1.0//EN
CALSCALE:GREGORIAN
METHOD:PUBLISH
X-WR-CALNAME:Körperleben
X-ORIGINAL-URL:https://xn--krperleben-ecb.de
X-WR-CALDESC:Veranstaltungen für Körperleben
BEGIN:VTIMEZONE
TZID:Europe/Berlin
BEGIN:DAYLIGHT
TZOFFSETFROM:+0100
TZOFFSETTO:+0200
TZNAME:CEST
DTSTART:20210328T010000
END:DAYLIGHT
BEGIN:STANDARD
TZOFFSETFROM:+0200
TZOFFSETTO:+0100
TZNAME:CET
DTSTART:20211031T010000
END:STANDARD
END:VTIMEZONE
BEGIN:VEVENT
DTSTART;TZID=Europe/Berlin:20210716T183000
DTEND;TZID=Europe/Berlin:20210716T230000
DTSTAMP:20260422T010933
CREATED:20210617T215357Z
LAST-MODIFIED:20210617T215357Z
UID:463-1626460200-1626476400@xn--krperleben-ecb.de
SUMMARY:Raufspiele Tübingen (nur mit Anmeldung)
DESCRIPTION:Termin: Freitag\, 16.7. im Kidojo\, Lorettoplatz 2.\nAnkommen ab 18:30 Uhr\, Beginn um 19 Uhr.\nVoraussichtliches Ende der Raufspiele: 23 Uhr.\n\nWichtig: Wenn du kommen willst\, musst du dich dieses Mal vorher bei mir anmelden. Außerdem musst du entweder nachweisbar genesen (nicht länger als 6 Monate) oder nachweisbar vollständig geimpft sein oder einen aktuellen negativen Test mitbringen (Selbsttest vor Ort / Negativ-Nachweis einer Teststelle). 
URL:https://xn--krperleben-ecb.de/?tribe_events=raufspiele-tuebingen-nur-mit-anmeldung-2
LOCATION:Kidojo\, Lorettoplatz 2\, Tübingen\, 72072\, Deutschland
END:VEVENT
END:VCALENDAR